BEGIN:VCALENDAR
VERSION:2.0
PRODID:-//Essential 6 - ECPv6.15.5//NONSGML v1.0//EN
CALSCALE:GREGORIAN
METHOD:PUBLISH
X-ORIGINAL-URL:https://essential6.co.uk
X-WR-CALDESC:Events for Essential 6
REFRESH-INTERVAL;VALUE=DURATION:PT1H
X-Robots-Tag:noindex
X-PUBLISHED-TTL:PT1H
BEGIN:VTIMEZONE
TZID:Europe/London
BEGIN:DAYLIGHT
TZOFFSETFROM:+0000
TZOFFSETTO:+0100
TZNAME:BST
DTSTART:20240331T010000
END:DAYLIGHT
BEGIN:STANDARD
TZOFFSETFROM:+0100
TZOFFSETTO:+0000
TZNAME:GMT
DTSTART:20241027T010000
END:STANDARD
END:VTIMEZONE
BEGIN:VEVENT
DTSTART;TZID=Europe/London:20240812T093000
DTEND;TZID=Europe/London:20240812T123000
DTSTAMP:20260422T033700
CREATED:20240130T134653Z
LAST-MODIFIED:20240130T134653Z
UID:10001985-1723455000-1723465800@essential6.co.uk
SUMMARY:Fire Awareness – 12th August 2024
DESCRIPTION:Course Overview: \nIf you are an employer\, business owner or are in control of a premises The Regulatory Reform (Fire Safety) Order 2005 that came into force on the 1st October 2006 states that you ‘must ensure that your employees are provided with adequate safety training’. Protect you and your business by booking your staff on a fire warden training course now to ensure that you\, as the ‘responsible person’\, comply with current legislation! \nCourse Outline: \nThe course covers the following topics: \n: Introduction to fire safety\n: Fire precautions/health & safety legislation\n: General fire prevention measures\n: Actions to be taken in the event of a fire\n: Evacuation procedures\n: Means of escape\n: Types of alarms and fire detectors\n: Fire wardens/marshal responsibilities\n: Calling the fire brigade\n: Information required when the fire service arrives\n: Triangle of combustion\n: Classes of fire and methods of extinction\n: Operation of fire extinguishers\n: Basic fire precautions\n: Fire register and accountability procedures \nCourse Duration: \n1 Day \nCourse Assessment: \nThere is no final assessment. The tutor ensures a thorough understanding has been achieved by questions\, answers\, discussion and practical scenarios \nCourse Certification: \nDelegates receive a certificate of attendance
URL:https://essential6.co.uk/open-course/fire-awareness-12th-august-2024/
LOCATION:Essential 6 Ltd\, 1 Marble Court Business Park\, Lymington Road\, Torquay\, TQ1 4FB\, United Kingdom
CATEGORIES:Fire Safety
ATTACH;FMTTYPE=image/png:https://essential6.co.uk/wp-content/uploads/2018/01/Fire-Safety-Event-Feat-Image.png
GEO:50.476183;-3.537373
X-APPLE-STRUCTURED-LOCATION;VALUE=URI;X-ADDRESS=Essential 6 Ltd 1 Marble Court Business Park Lymington Road Torquay TQ1 4FB United Kingdom;X-APPLE-RADIUS=500;X-TITLE=1 Marble Court Business Park\, Lymington Road:geo:-3.537373,50.476183
END:VEVENT
BEGIN:VEVENT
DTSTART;TZID=Europe/London:20240812T093000
DTEND;TZID=Europe/London:20240812T153000
DTSTAMP:20260422T033700
CREATED:20240130T135123Z
LAST-MODIFIED:20240513T111040Z
UID:10002419-1723455000-1723476600@essential6.co.uk
SUMMARY:Fire Warden – 12th August 2024
DESCRIPTION:Course Overview: \nIf you are an employer\, business owner or are in control of a premises The Regulatory Reform (Fire Safety) Order 2005 that came into force on the 1st October 2006 states that you ‘must ensure that your employees are provided with adequate safety training’. Protect you and your business by booking your staff on a fire warden training course now to ensure that you\, as the ‘responsible person’\, comply with current legislation! \nCourse Outline: \nThe course covers the following topics: \n: Introduction to fire safety\n: Fire precautions/health & safety legislation\n: General fire prevention measures\n: Actions to be taken in the event of a fire\n: Evacuation procedures\n: Means of escape\n: Types of alarms and fire detectors\n: Fire wardens/marshal responsibilities\n: Calling the fire brigade\n: Information required when the fire service arrives\n: Triangle of combustion\n: Classes of fire and methods of extinction\n: Operation of fire extinguishers\n: Basic fire precautions\n: Fire register and accountability procedures \nCourse Duration: \n1 Day \nCourse Assessment: \nThere is no final assessment. The tutor ensures a thorough understanding has been achieved by questions\, answers\, discussion and practical scenarios \nCourse Certification: \nDelegates receive a certificate of attendance
URL:https://essential6.co.uk/open-course/fire-warden-12th-august-2024/
LOCATION:Essential 6 Ltd\, 1 Marble Court Business Park\, Lymington Road\, Torquay\, TQ1 4FB\, United Kingdom
CATEGORIES:Fire Safety
ATTACH;FMTTYPE=image/png:https://essential6.co.uk/wp-content/uploads/2018/01/Fire-Safety-Event-Feat-Image.png
GEO:50.476183;-3.537373
X-APPLE-STRUCTURED-LOCATION;VALUE=URI;X-ADDRESS=Essential 6 Ltd 1 Marble Court Business Park Lymington Road Torquay TQ1 4FB United Kingdom;X-APPLE-RADIUS=500;X-TITLE=1 Marble Court Business Park\, Lymington Road:geo:-3.537373,50.476183
END:VEVENT
BEGIN:VEVENT
DTSTART;TZID=Europe/London:20240813T093000
DTEND;TZID=Europe/London:20240813T163000
DTSTAMP:20260422T033700
CREATED:20240130T135611Z
LAST-MODIFIED:20240130T135611Z
UID:10002420-1723541400-1723566600@essential6.co.uk
SUMMARY:Health & Safety in the Workplace RQF Level 2 – 13th August 2024
DESCRIPTION:Course Overview: \nThe Level 2 Award in Health and Safety in the Workplace qualification will provide your employees with fundamental health and safety knowledge and can be tailored to your business and individual needs to make the learning experience relevant and fit for purpose. \nCourse Outline: \nThe qualification covers the following topics:\n: Legislation\n: Health\n: Safety\n: Welfare\n: The workplace and workplace equipment\n: Risk assessment\n: Manual handling\n: Hazardous substances\n: Ergonomics and workstation design\n: Transport and vehicles\n: Noise and vibration \nCourse Duration: \n1 Day \nCourse Assessment: \nMultiple choice examination paper \nCourse Certification: \nAll those that pass the multiple choice assessment receive a nationally accredited certificate to prove they have participated in a training programme and successfully completed the assessment.
URL:https://essential6.co.uk/open-course/health-safety-in-the-workplace-rqf-level-2-13th-august-2024/
LOCATION:Essential 6 Ltd\, 1 Marble Court Business Park\, Lymington Road\, Torquay\, TQ1 4FB\, United Kingdom
CATEGORIES:Health & Safety
ATTACH;FMTTYPE=image/png:https://essential6.co.uk/wp-content/uploads/2018/01/Health-and-Safety-Event-Feat-Image.png
GEO:50.476183;-3.537373
X-APPLE-STRUCTURED-LOCATION;VALUE=URI;X-ADDRESS=Essential 6 Ltd 1 Marble Court Business Park Lymington Road Torquay TQ1 4FB United Kingdom;X-APPLE-RADIUS=500;X-TITLE=1 Marble Court Business Park\, Lymington Road:geo:-3.537373,50.476183
END:VEVENT
BEGIN:VEVENT
DTSTART;TZID=Europe/London:20240814T093000
DTEND;TZID=Europe/London:20240814T123000
DTSTAMP:20260422T033700
CREATED:20240130T140006Z
LAST-MODIFIED:20240130T140006Z
UID:10002421-1723627800-1723638600@essential6.co.uk
SUMMARY:Principles of Manual Handling – 14th August 2024
DESCRIPTION:Course Description: \nThis course introduces candidates to the hazards and risks involved in manual handling and outlines what to expect\nfrom a manual handling assessment. It will enable employees to develop safer manual handling techniques in the\nworkplace. \nCourse Outline: \nThe qualification covers the following topics:\n: The process of manual handling in the workplace\n: Manual handling injuries and the activities which cause them\n: Manual handling assessment and control options\n: Responsibilities imposed by the Manual Handling Operations Regulations \nCourse Duration: \n1/2 Day \nAssessment: \nThere is no final assessment. The tutor ensures a thorough understanding has been achieved by questions\, answers\, discussion and practical scenarios \nCertification: \nAll course delegates will receive a certificate of attendance
URL:https://essential6.co.uk/open-course/principles-of-manual-handling-14th-august-2024/
LOCATION:Essential 6 Ltd\, 1 Marble Court Business Park\, Lymington Road\, Torquay\, TQ1 4FB\, United Kingdom
CATEGORIES:Manual Handling
ATTACH;FMTTYPE=image/png:https://essential6.co.uk/wp-content/uploads/2018/01/Manual-Handling-Event-Feat-Image.png
GEO:50.476183;-3.537373
X-APPLE-STRUCTURED-LOCATION;VALUE=URI;X-ADDRESS=Essential 6 Ltd 1 Marble Court Business Park Lymington Road Torquay TQ1 4FB United Kingdom;X-APPLE-RADIUS=500;X-TITLE=1 Marble Court Business Park\, Lymington Road:geo:-3.537373,50.476183
END:VEVENT
BEGIN:VEVENT
DTSTART;TZID=Europe/London:20240814T133000
DTEND;TZID=Europe/London:20240814T163000
DTSTAMP:20260422T033700
CREATED:20240130T140737Z
LAST-MODIFIED:20240708T133753Z
UID:10002422-1723642200-1723653000@essential6.co.uk
SUMMARY:Safer Moving & Handling of People Refresher – 14th August 2024
DESCRIPTION:Course Description: \nMusculoskeletal Disorders (MSDs) are the most common cause of occupational ill health in Great Britain\, currently affecting 1.0 million people a year and costing society £5.7 billion. MSDs affect the muscles\, joints\, tendons and other parts of the musculoskeletal system. By educating staff in the principles of safe moving and handling\, and facilitating a problem-solving approach that is people-handling centered\, training can contribute to excellence in care as well as reducing injury \nCourse Outline: \n: Legislation relating to Manual Handling\n: Problem-solving approach\n: Musculo-skeletal awareness\n: The importance of posture\n: Efficient movement principles\n: The role of care plans and balanced decision making\n: Selection and use of equipment\n: Planning for emergency situations\n: The importance of documentation \nCourse Duration: \n1/2 Day \nAssessment: \nThere is no final assessment. The tutor ensures a thorough understanding has been achieved by questions\, answers\, discussion and practical scenarios \nCertification: \nAll course delegates will receive a certificate of attendance
URL:https://essential6.co.uk/open-course/safer-moving-handling-of-people-refresher-14th-august-2024/
LOCATION:Essential 6 Ltd\, 1 Marble Court Business Park\, Lymington Road\, Torquay\, TQ1 4FB\, United Kingdom
CATEGORIES:Manual Handling
ATTACH;FMTTYPE=image/png:https://essential6.co.uk/wp-content/uploads/2018/01/Manual-Handling-Event-Feat-Image.png
GEO:50.476183;-3.537373
X-APPLE-STRUCTURED-LOCATION;VALUE=URI;X-ADDRESS=Essential 6 Ltd 1 Marble Court Business Park Lymington Road Torquay TQ1 4FB United Kingdom;X-APPLE-RADIUS=500;X-TITLE=1 Marble Court Business Park\, Lymington Road:geo:-3.537373,50.476183
END:VEVENT
BEGIN:VEVENT
DTSTART;TZID=Europe/London:20240815T093000
DTEND;TZID=Europe/London:20240815T163000
DTSTAMP:20260422T033700
CREATED:20240130T141116Z
LAST-MODIFIED:20240715T130704Z
UID:10002423-1723714200-1723739400@essential6.co.uk
SUMMARY:Emergency First Aid at Work RQF Level 3 – 15th August 2024
DESCRIPTION:Qualification Overview \nThe qualification and learning outcomes are based on the recommendations of: \n• Resuscitation Council (UK)\n• Assessment Principles for Regulated First Aid Qualifications \nThis qualification is: \n• For people who deal with emergency first aid at work enabling them to be workplace emergency first aiders under the Health and Safety (First Aid) Regulations 1981 \n• Based on the Health and Safety Executive (HSE) training standard for delivery of Emergency First Aid at Work (EFAW) courses for the purposes of the Health and Safety (First Aid) Regulations 1981 \nThis qualification should enable Learners to attain the knowledge and practical competencies needed to deal with a range of emergency first aid situations. \nLearners should be able to demonstrate the practical administration of safe\, prompt\, effective first aid in emergency situations with an understanding of the role of first aider. \nQualification Outline \n1. Understand the role and responsibilities of a first aider \n1.1 Identify the role and responsibilities of a first aider\n1.2 Identify how to minimise the risk of infection to self and others\n1.3 Identify the need for consent to provide first aid \n2. Be able to assess an incident \n2.1 Conduct a scene survey\n2.2 Conduct a primary survey of a casualty\n2.3 Summon appropriate assistance when necessary \n3. Be able to provide first aid to an unresponsive casualty \n3.1 Identify when to administer Cardiopulmonary Resuscitation (CPR)\n3.2 Demonstrate CPR using a manikin\n3.3 Justify when to place a casualty into the recovery position\n3.4 Demonstrate how to place a casualty into the recovery position\n3.5 Identify how to administer first aid to a casualty who is experiencing a seizure \n4. Be able to provide first aid to a casualty who is choking \n4.1 Identify when choking is:\n• Mild\n• Severe \n4.2 Administer first aid to a casualty who is choking \n5. Know how to provide first aid to a casualty with external bleeding \n5.1 Identify the severity of external bleeding\n5.2 Demonstrate how to control external bleeding \n6. Know how provide first aid to a casualty who is in shock \n6.1 Recognise a casualty who is suffering from shock\n6.2 Identify how to administer first aid to a casualty who is suffering from shock \n7. Know how to provide first aid to a casualty with minor injuries \n7.1 Identify how to administer first aid to a casualty with:\n• Small cuts\n• Grazes\n• Bruises\n• Small splinters \n7.2 Identify how to administer first aid to a casualty with minor burns and scalds \nCourse Duration \n1 Day \nQualification Assessment and Certification \nFormative assessment conducted by Trainer throughout the course.\nTheory assessment/multiple choice question paper: 1 x 15 question paper (minimum score 11)\nPractical assessment – 4 completed throughout the course \nThis qualification sits on the Regulated Qualifications Framework (RQF). The RQF is a qualification framework regulated by Ofqual.
URL:https://essential6.co.uk/open-course/emergency-first-aid-at-work-rqf-level-3-15th-august-2024/
LOCATION:Essential 6 Ltd\, 1 Marble Court Business Park\, Lymington Road\, Torquay\, TQ1 4FB\, United Kingdom
CATEGORIES:First Aid
ATTACH;FMTTYPE=image/png:https://essential6.co.uk/wp-content/uploads/2018/01/Copy-of-First-Aid-Event-Feat-Image.png
GEO:50.476183;-3.537373
X-APPLE-STRUCTURED-LOCATION;VALUE=URI;X-ADDRESS=Essential 6 Ltd 1 Marble Court Business Park Lymington Road Torquay TQ1 4FB United Kingdom;X-APPLE-RADIUS=500;X-TITLE=1 Marble Court Business Park\, Lymington Road:geo:-3.537373,50.476183
END:VEVENT
END:VCALENDAR