BEGIN:VCALENDAR
VERSION:2.0
PRODID:-//Essential 6 - ECPv6.15.5//NONSGML v1.0//EN
CALSCALE:GREGORIAN
METHOD:PUBLISH
X-WR-CALNAME:Essential 6
X-ORIGINAL-URL:https://essential6.co.uk
X-WR-CALDESC:Events for Essential 6
REFRESH-INTERVAL;VALUE=DURATION:PT1H
X-Robots-Tag:noindex
X-PUBLISHED-TTL:PT1H
BEGIN:VTIMEZONE
TZID:Europe/London
BEGIN:DAYLIGHT
TZOFFSETFROM:+0000
TZOFFSETTO:+0100
TZNAME:BST
DTSTART:20260329T010000
END:DAYLIGHT
BEGIN:STANDARD
TZOFFSETFROM:+0100
TZOFFSETTO:+0000
TZNAME:GMT
DTSTART:20261025T010000
END:STANDARD
END:VTIMEZONE
BEGIN:VEVENT
DTSTART;TZID=Europe/London:20260618T093000
DTEND;TZID=Europe/London:20260618T123000
DTSTAMP:20260421T204655
CREATED:20250924T114653Z
LAST-MODIFIED:20250924T114653Z
UID:10002056-1781775000-1781785800@essential6.co.uk
SUMMARY:Basic Life Support\, AED & Anaphylaxis-18th June 2026
DESCRIPTION:Course Overview: \nThis course of training teaches you important life saving skills and is delivered with a practical hands on approach to develop or refresh your skills. In line with the Resuscitation Council (UK) Guidelines. \nCourse Outline: \nYou will learn; \nPossible causes of cardiac and respiratory arrest\nHow to deliver C.P.R.\nHow to recognise and manage a Heart Attack\nHow to put someone into the recovery position\nHow to assist a choking casualty and perform the necessary actions required\nA.E.D. & Anaphylaxis Awareness \nCourse Duration: \n3 hours
URL:https://essential6.co.uk/open-course/basic-life-support-aed-anaphylaxis-18th-june-2026/
LOCATION:Essential 6 Ltd\, 1 Marble Court Business Park\, Lymington Road\, Torquay\, TQ1 4FB\, United Kingdom
CATEGORIES:First Aid
ATTACH;FMTTYPE=image/png:https://essential6.co.uk/wp-content/uploads/2018/01/Copy-of-First-Aid-Event-Feat-Image.png
GEO:50.476183;-3.537373
X-APPLE-STRUCTURED-LOCATION;VALUE=URI;X-ADDRESS=Essential 6 Ltd 1 Marble Court Business Park Lymington Road Torquay TQ1 4FB United Kingdom;X-APPLE-RADIUS=500;X-TITLE=1 Marble Court Business Park\, Lymington Road:geo:-3.537373,50.476183
END:VEVENT
BEGIN:VEVENT
DTSTART;TZID=Europe/London:20260618T133000
DTEND;TZID=Europe/London:20260618T163000
DTSTAMP:20260421T204655
CREATED:20250924T114913Z
LAST-MODIFIED:20250924T114913Z
UID:10002057-1781789400-1781800200@essential6.co.uk
SUMMARY:Basic Life Support\, AED & Anaphylaxis-18th June 2026
DESCRIPTION:Course Overview: \nThis course of training teaches you important life saving skills and is delivered with a practical hands on approach to develop or refresh your skills. In line with the Resuscitation Council (UK) Guidelines. \nCourse Outline: \nYou will learn; \nPossible causes of cardiac and respiratory arrest\nHow to deliver C.P.R.\nHow to recognise and manage a Heart Attack\nHow to put someone into the recovery position\nHow to assist a choking casualty and perform the necessary actions required\nA.E.D. & Anaphylaxis Awareness \nCourse Duration: \n3 hours
URL:https://essential6.co.uk/open-course/basic-life-support-aed-anaphylaxis-18th-june-2026-2/
LOCATION:Essential 6 Ltd\, 1 Marble Court Business Park\, Lymington Road\, Torquay\, TQ1 4FB\, United Kingdom
CATEGORIES:First Aid
ATTACH;FMTTYPE=image/png:https://essential6.co.uk/wp-content/uploads/2018/01/Copy-of-First-Aid-Event-Feat-Image.png
GEO:50.476183;-3.537373
X-APPLE-STRUCTURED-LOCATION;VALUE=URI;X-ADDRESS=Essential 6 Ltd 1 Marble Court Business Park Lymington Road Torquay TQ1 4FB United Kingdom;X-APPLE-RADIUS=500;X-TITLE=1 Marble Court Business Park\, Lymington Road:geo:-3.537373,50.476183
END:VEVENT
END:VCALENDAR