BEGIN:VCALENDAR
VERSION:2.0
PRODID:-//Essential 6 - ECPv6.15.5//NONSGML v1.0//EN
CALSCALE:GREGORIAN
METHOD:PUBLISH
X-ORIGINAL-URL:https://essential6.co.uk
X-WR-CALDESC:Events for Essential 6
REFRESH-INTERVAL;VALUE=DURATION:PT1H
X-Robots-Tag:noindex
X-PUBLISHED-TTL:PT1H
BEGIN:VTIMEZONE
TZID:Europe/London
BEGIN:DAYLIGHT
TZOFFSETFROM:+0000
TZOFFSETTO:+0100
TZNAME:BST
DTSTART:20240331T010000
END:DAYLIGHT
BEGIN:STANDARD
TZOFFSETFROM:+0100
TZOFFSETTO:+0000
TZNAME:GMT
DTSTART:20241027T010000
END:STANDARD
END:VTIMEZONE
BEGIN:VEVENT
DTSTART;TZID=Europe/London:20240813T093000
DTEND;TZID=Europe/London:20240813T163000
DTSTAMP:20260421T224335
CREATED:20240130T135611Z
LAST-MODIFIED:20240130T135611Z
UID:10002420-1723541400-1723566600@essential6.co.uk
SUMMARY:Health & Safety in the Workplace RQF Level 2 – 13th August 2024
DESCRIPTION:Course Overview: \nThe Level 2 Award in Health and Safety in the Workplace qualification will provide your employees with fundamental health and safety knowledge and can be tailored to your business and individual needs to make the learning experience relevant and fit for purpose. \nCourse Outline: \nThe qualification covers the following topics:\n: Legislation\n: Health\n: Safety\n: Welfare\n: The workplace and workplace equipment\n: Risk assessment\n: Manual handling\n: Hazardous substances\n: Ergonomics and workstation design\n: Transport and vehicles\n: Noise and vibration \nCourse Duration: \n1 Day \nCourse Assessment: \nMultiple choice examination paper \nCourse Certification: \nAll those that pass the multiple choice assessment receive a nationally accredited certificate to prove they have participated in a training programme and successfully completed the assessment.
URL:https://essential6.co.uk/open-course/health-safety-in-the-workplace-rqf-level-2-13th-august-2024/
LOCATION:Essential 6 Ltd\, 1 Marble Court Business Park\, Lymington Road\, Torquay\, TQ1 4FB\, United Kingdom
CATEGORIES:Health & Safety
ATTACH;FMTTYPE=image/png:https://essential6.co.uk/wp-content/uploads/2018/01/Health-and-Safety-Event-Feat-Image.png
GEO:50.476183;-3.537373
X-APPLE-STRUCTURED-LOCATION;VALUE=URI;X-ADDRESS=Essential 6 Ltd 1 Marble Court Business Park Lymington Road Torquay TQ1 4FB United Kingdom;X-APPLE-RADIUS=500;X-TITLE=1 Marble Court Business Park\, Lymington Road:geo:-3.537373,50.476183
END:VEVENT
END:VCALENDAR